BEGIN:VCALENDAR
VERSION:2.0
PRODID:-//ISO - ECPv6.15.20//NONSGML v1.0//EN
CALSCALE:GREGORIAN
METHOD:PUBLISH
X-WR-CALNAME:ISO
X-ORIGINAL-URL:https://iso.mit.edu
X-WR-CALDESC:Events for ISO
REFRESH-INTERVAL;VALUE=DURATION:PT1H
X-Robots-Tag:noindex
X-PUBLISHED-TTL:PT1H
BEGIN:VTIMEZONE
TZID:UTC
BEGIN:STANDARD
TZOFFSETFROM:+0000
TZOFFSETTO:+0000
TZNAME:UTC
DTSTART:20190101T000000
END:STANDARD
END:VTIMEZONE
BEGIN:VEVENT
DTSTART;TZID=UTC:20210122T120000
DTEND;TZID=UTC:20210122T133000
DTSTAMP:20260423T062504
CREATED:20210107T174449Z
LAST-MODIFIED:20210107T174450Z
UID:2555-1611316800-1611322200@iso.mit.edu
SUMMARY:Understanding Intercultural Communication: Cultural Coffee Hours
DESCRIPTION:Cultural Coffee Hours \n\n\n\nIf you are struggling to adapt to the American way of life\, let’s first take a step back and look at the bigger picture of culture differences and intercultural communication styles. Having a deeper understanding of where we come from will help us navigate our new environment. Attendance at all 4 sessions is strongly encouraged. \n\n\n\nFridays at 12-1:30pmJan 8– Understanding Cultural AdaptationJan 15– Understanding Cultural DifferencesJan 22– Understanding Intercultural CommunicationJan 29– Understanding the American PersonalityRegistration requiredFacilitated by Jennifer Recklet Tassi\, Senior Program Manager for MIT Spouses & Partners Connect.sponsored by MS&PC\, LCE\, & ISO \n\n\n\n*If you present\, you will receive a $20 gift card from GrubHub or Amazon (your choice). \n\n\n\nThe plan is to have everyone present on Thursday\, January 21\, 2021 at 10am EST. \n\n\n\nZoom link will be sent at a later date. \n\n\n\nPlease fill out the interest form if you wish to present or just attend*Zoom link will be provided by email
URL:https://iso.mit.edu/event/zoom-noon-break-2-2-2-3-2-2-2-2-2-2-2-2-2-2-2-2-2-2/
ATTACH;FMTTYPE=image/png:https://iso.mit.edu/wp-content/uploads/2021/01/IAP-Cultural-Coffee-Hours.png
END:VEVENT
BEGIN:VEVENT
DTSTART;TZID=UTC:20210121T100000
DTEND;TZID=UTC:20210121T110000
DTSTAMP:20260423T062504
CREATED:20210107T172029Z
LAST-MODIFIED:20210108T211853Z
UID:2547-1611223200-1611226800@iso.mit.edu
SUMMARY:New Year Around the World
DESCRIPTION:The International Students Office would love for you to virtually share with the MIT community how your country/culture celebrates the New Year. We will already have 3 presentations showcasing China\, Pakistan\, and the United States via Zoom. You are invited to share your culture as well! You are also just welcome to attend and listen. \n\n\n\n*If you present\, you will receive a $20 gift card from GrubHub or Amazon (your choice). \n\n\n\nThe plan is to have everyone present on Thursday\, January 21\, 2021 at 10am EST. \n\n\n\nZoom link will be sent at a later date. \n\n\n\nPlease fill out the interest form if you wish to present or just attend*Zoom link will be provided by email
URL:https://iso.mit.edu/event/zoom-noon-break-2-2-2-3-2-2-2-2-2-2-2-2-2-2-2/
ATTACH;FMTTYPE=image/png:https://iso.mit.edu/wp-content/uploads/2021/01/IAP-New-Years-Around-the-World.png
END:VEVENT
BEGIN:VEVENT
DTSTART;TZID=UTC:20210115T120000
DTEND;TZID=UTC:20210115T133000
DTSTAMP:20260423T062504
CREATED:20210107T174351Z
LAST-MODIFIED:20210107T174354Z
UID:2553-1610712000-1610717400@iso.mit.edu
SUMMARY:Understanding Cultural Differences: Cultural Coffee Hours
DESCRIPTION:Cultural Coffee Hours \n\n\n\nIf you are struggling to adapt to the American way of life\, let’s first take a step back and look at the bigger picture of culture differences and intercultural communication styles. Having a deeper understanding of where we come from will help us navigate our new environment. Attendance at all 4 sessions is strongly encouraged. \n\n\n\nFridays at 12-1:30pmJan 8– Understanding Cultural AdaptationJan 15– Understanding Cultural DifferencesJan 22– Understanding Intercultural CommunicationJan 29– Understanding the American PersonalityRegistration requiredFacilitated by Jennifer Recklet Tassi\, Senior Program Manager for MIT Spouses & Partners Connect.sponsored by MS&PC\, LCE\, & ISO \n\n\n\n*If you present\, you will receive a $20 gift card from GrubHub or Amazon (your choice). \n\n\n\nThe plan is to have everyone present on Thursday\, January 21\, 2021 at 10am EST. \n\n\n\nZoom link will be sent at a later date. \n\n\n\nPlease fill out the interest form if you wish to present or just attend*Zoom link will be provided by email
URL:https://iso.mit.edu/event/zoom-noon-break-2-2-2-3-2-2-2-2-2-2-2-2-2-2-2-2-2/
ATTACH;FMTTYPE=image/png:https://iso.mit.edu/wp-content/uploads/2021/01/IAP-Cultural-Coffee-Hours.png
END:VEVENT
BEGIN:VEVENT
DTSTART;TZID=UTC:20210114T120000
DTEND;TZID=UTC:20210114T130000
DTSTAMP:20260423T062504
CREATED:20210107T165916Z
LAST-MODIFIED:20210107T165918Z
UID:2544-1610625600-1610629200@iso.mit.edu
SUMMARY:Zoom Break: Codenames
DESCRIPTION:Join your fellow international students and postdocs for a virtual zoom break and an interactive game twice a month! *Open to entire MIT community during IAP \n\n\n\nCo-sponsored by ISO and PDA*Zoom link will be provided by email (same zoom link each time) \n\n\n\nSign-up requested*Zoom link will be provided by email
URL:https://iso.mit.edu/event/zoom-noon-break-2-2-2-3-2-2-2-2-2-2-2-2-2-2/
ATTACH;FMTTYPE=image/png:https://iso.mit.edu/wp-content/uploads/2021/01/Zoom-Breaks-IAP-2021.png
END:VEVENT
BEGIN:VEVENT
DTSTART;TZID=UTC:20210108T120000
DTEND;TZID=UTC:20210108T133000
DTSTAMP:20260423T062504
CREATED:20210107T174300Z
LAST-MODIFIED:20210107T174302Z
UID:2550-1610107200-1610112600@iso.mit.edu
SUMMARY:Understanding American Adaptation: Cultural Coffee Hours
DESCRIPTION:Cultural Coffee Hours \n\n\n\nIf you are struggling to adapt to the American way of life\, let’s first take a step back and look at the bigger picture of culture differences and intercultural communication styles. Having a deeper understanding of where we come from will help us navigate our new environment. Attendance at all 4 sessions is strongly encouraged. \n\n\n\nFridays at 12-1:30pmJan 8– Understanding Cultural AdaptationJan 15– Understanding Cultural DifferencesJan 22– Understanding Intercultural CommunicationJan 29– Understanding the American PersonalityRegistration requiredFacilitated by Jennifer Recklet Tassi\, Senior Program Manager for MIT Spouses & Partners Connect.sponsored by MS&PC\, LCE\, & ISO \n\n\n\n*If you present\, you will receive a $20 gift card from GrubHub or Amazon (your choice). \n\n\n\nThe plan is to have everyone present on Thursday\, January 21\, 2021 at 10am EST. \n\n\n\nZoom link will be sent at a later date. \n\n\n\nPlease fill out the interest form if you wish to present or just attend*Zoom link will be provided by email
URL:https://iso.mit.edu/event/zoom-noon-break-2-2-2-3-2-2-2-2-2-2-2-2-2-2-2-2/
ATTACH;FMTTYPE=image/png:https://iso.mit.edu/wp-content/uploads/2021/01/IAP-Cultural-Coffee-Hours.png
END:VEVENT
BEGIN:VEVENT
DTSTART;TZID=UTC:20201217T100000
DTEND;TZID=UTC:20201217T110000
DTSTAMP:20260423T062504
CREATED:20201124T203724Z
LAST-MODIFIED:20201124T203725Z
UID:2438-1608199200-1608202800@iso.mit.edu
SUMMARY:Zoom Break
DESCRIPTION:Join your fellow international students and postdocs for a virtual zoom break and an interactive game twice a month! Please sign up at this link if you plan to attend. The Zoom link is recurring each time. \n\n\n\n\n\nContact: riechman@mit.edu
URL:https://iso.mit.edu/event/zoom-noon-break-2-2-2-3-2-2-2-2-2-2-2-2-2/
ATTACH;FMTTYPE=image/png:https://iso.mit.edu/wp-content/uploads/2020/11/Zoom-Breaks-December-2020.png
END:VEVENT
BEGIN:VEVENT
DTSTART;TZID=UTC:20201215T140000
DTEND;TZID=UTC:20201215T150000
DTSTAMP:20260423T062504
CREATED:20201208T160848Z
LAST-MODIFIED:20201208T161049Z
UID:2466-1608040800-1608044400@iso.mit.edu
SUMMARY:LCE Virtual Conversation Cafe
DESCRIPTION:After a short opening presentation\, language learners will be sorted into breakout rooms by language where you can practice with native speakers.Participants can start arriving by 10 minutes early so that presentation can start promptly. \n\n\n\nFor MIT communityCo-sponsored by Language Conversation Exchange (LCE) & ISOAdvance registration for each event is required \n\n\n\n\n\nContact: riechman@mit.edu
URL:https://iso.mit.edu/event/zoom-noon-break-2-2-2-2-2-2020-08-25-2-2-2-2/2020-12-15/
LOCATION:Online (Zoom link to be provided upon signup)
ATTACH;FMTTYPE=image/jpeg:https://iso.mit.edu/wp-content/uploads/2020/08/virtual_conversation2.jpg
END:VEVENT
BEGIN:VEVENT
DTSTART;TZID=UTC:20201203T130000
DTEND;TZID=UTC:20201203T140000
DTSTAMP:20260423T062504
CREATED:20201124T203106Z
LAST-MODIFIED:20201124T203107Z
UID:2435-1607000400-1607004000@iso.mit.edu
SUMMARY:Zoom Break
DESCRIPTION:Join your fellow international students and postdocs for a virtual zoom break and an interactive game twice a month! Please sign up at this link if you plan to attend. The Zoom link is recurring each time. \n\n\n\n\n\nContact: riechman@mit.edu
URL:https://iso.mit.edu/event/zoom-noon-break-2-2-2-3-2-2-2-2-2-2-2-2/
ATTACH;FMTTYPE=image/png:https://iso.mit.edu/wp-content/uploads/2020/11/Zoom-Breaks-December-2020.png
END:VEVENT
BEGIN:VEVENT
DTSTART;TZID=UTC:20201120T170000
DTEND;TZID=UTC:20201120T170000
DTSTAMP:20260423T062504
CREATED:20201116T151014Z
LAST-MODIFIED:20201117T193513Z
UID:2420-1605891600-1605891600@iso.mit.edu
SUMMARY:International Education Week: November 16-20\, 2020
DESCRIPTION:MIT International Scholars Office and MIT International Students Office are celebrating International Education Week all week! \n\n\n\nInternational Education Week (IEW)\, November 16-20\, 2020\, is an opportunity to celebrate the benefits of international education and exchange worldwide. This joint initiative of the U.S. Department of State and the U.S. Department of Education is part of our efforts to promote programs that prepare Americans for a global environment and attract future leaders from abroad to study\, learn\, and exchange experiences.you are interested in attending at this link. \n\n\n\n\n\nContact: riechman@mit.edu
URL:https://iso.mit.edu/event/zoom-noon-break-2-2-2-3-2-3-2-2-2-2-3-2/
ATTACH;FMTTYPE=image/png:https://iso.mit.edu/wp-content/uploads/2020/11/IEW-logo-2020.png
END:VEVENT
BEGIN:VEVENT
DTSTART;TZID=UTC:20201119T140000
DTEND;TZID=UTC:20201119T150000
DTSTAMP:20260423T062504
CREATED:20201112T220210Z
LAST-MODIFIED:20201112T220212Z
UID:2408-1605794400-1605798000@iso.mit.edu
SUMMARY:Zoom Afternoon Break
DESCRIPTION:Join your fellow international students and postdocs for a virtual zoom break and a lively game of Codenames every other week! Please sign up at this link if you plan to attend. The Zoom link is recurring each time. \n\n\n\n\n\nContact: riechman@mit.edu
URL:https://iso.mit.edu/event/zoom-noon-break-2-2-2-3-2-2-2-2-2-2-2/
ATTACH;FMTTYPE=image/png:https://iso.mit.edu/wp-content/uploads/2020/11/Zoom-Afternoon-Break-Nov-2020.png
END:VEVENT
BEGIN:VEVENT
DTSTART;TZID=UTC:20201116T090000
DTEND;TZID=UTC:20201120T180000
DTSTAMP:20260423T062504
CREATED:20201116T144852Z
LAST-MODIFIED:20201117T193607Z
UID:2411-1605517200-1605895200@iso.mit.edu
SUMMARY:International Education Week: November 16-20\, 2020
DESCRIPTION:MIT International Scholars Office and MIT International Students Office are celebrating International Education Week! \n\n\n\nInternational Education Week (IEW)\, November 16-20\, 2020\, is an opportunity to celebrate the benefits of international education and exchange worldwide. This joint initiative of the U.S. Department of State and the U.S. Department of Education is part of our efforts to promote programs that prepare Americans for a global environment and attract future leaders from abroad to study\, learn\, and exchange experiences.you are interested in attending at this link. \n\n\n\n\n\nContact: riechman@mit.edu
URL:https://iso.mit.edu/event/zoom-noon-break-2-2-2-3-2-3-2-2-2-2-3/
ATTACH;FMTTYPE=image/png:https://iso.mit.edu/wp-content/uploads/2020/11/IEW-logo-2020.png
END:VEVENT
BEGIN:VEVENT
DTSTART;TZID=UTC:20201113T100000
DTEND;TZID=UTC:20201113T110000
DTSTAMP:20260423T062504
CREATED:20200924T135022Z
LAST-MODIFIED:20200924T135023Z
UID:2285-1605261600-1605265200@iso.mit.edu
SUMMARY:Navigating MIT Series: Effective Stress Management During COVID-19
DESCRIPTION:Topics throughout the fall to support international students with adjustment to MIT and the U.S. Please register for each virtual workshop you are interested in attending at this link. \n\n\n\n\n\nContact: riechman@mit.edu
URL:https://iso.mit.edu/event/zoom-noon-break-2-2-2-3-2-3-2-2-2-2-2/
ATTACH;FMTTYPE=image/png:https://iso.mit.edu/wp-content/uploads/2020/09/Navigating-MIT-Fall-2020.png
END:VEVENT
BEGIN:VEVENT
DTSTART;TZID=UTC:20201112T130000
DTEND;TZID=UTC:20201112T140000
DTSTAMP:20260423T062504
CREATED:20201112T220036Z
LAST-MODIFIED:20201112T220040Z
UID:2405-1605186000-1605189600@iso.mit.edu
SUMMARY:Zoom Afternoon Break
DESCRIPTION:Join your fellow international students and postdocs for a virtual zoom break and a lively game of Codenames every other week! Please sign up at this link if you plan to attend. The Zoom link is recurring each time. \n\n\n\n\n\nContact: riechman@mit.edu
URL:https://iso.mit.edu/event/zoom-noon-break-2-2-2-3-2-2-2-2-2-2/
ATTACH;FMTTYPE=image/png:https://iso.mit.edu/wp-content/uploads/2020/11/Zoom-Afternoon-Break-Nov-2020.png
END:VEVENT
BEGIN:VEVENT
DTSTART;TZID=UTC:20201106T140000
DTEND;TZID=UTC:20201106T150000
DTSTAMP:20260423T062504
CREATED:20201116T211340Z
LAST-MODIFIED:20201116T211729Z
UID:2425-1604671200-1604674800@iso.mit.edu
SUMMARY:LCE Virtual Conversation Cafe
DESCRIPTION:After a short opening presentation\, language learners will be sorted into breakout rooms by language where you can practice with native speakers.Participants can start arriving by 1:50pm so that presentation can start promptly at 2pm \n\n\n\nFor MIT communityCo-sponsored by Language Conversation Exchange (LCE) & ISOAdvance registration for each event is required \n\n\n\n\n\nContact: riechman@mit.edu
URL:https://iso.mit.edu/event/zoom-noon-break-2-2-2-2-2-2020-08-25-2/
LOCATION:Online (Zoom link to be provided upon signup)
ATTACH;FMTTYPE=image/png:https://iso.mit.edu/wp-content/uploads/2020/11/LCE-Nov-2020.png
END:VEVENT
BEGIN:VEVENT
DTSTART;TZID=UTC:20201106T130000
DTEND;TZID=UTC:20201106T140000
DTSTAMP:20260423T062504
CREATED:20200924T134505Z
LAST-MODIFIED:20200924T134755Z
UID:2283-1604667600-1604671200@iso.mit.edu
SUMMARY:Navigating MIT Series: Imposter Phenomenon
DESCRIPTION:Topics throughout the fall to support international students with adjustment to MIT and the U.S. Please register for each virtual workshop you are interested in attending at this link. \n\n\n\n\n\nContact: riechman@mit.edu
URL:https://iso.mit.edu/event/zoom-noon-break-2-2-2-3-2-3-2-2-2-2/
ATTACH;FMTTYPE=image/png:https://iso.mit.edu/wp-content/uploads/2020/09/Navigating-MIT-Fall-2020.png
END:VEVENT
BEGIN:VEVENT
DTSTART;TZID=UTC:20201030T140000
DTEND;TZID=UTC:20201030T150000
DTSTAMP:20260423T062504
CREATED:20200924T134403Z
LAST-MODIFIED:20200924T134404Z
UID:2281-1604066400-1604070000@iso.mit.edu
SUMMARY:Navigating MIT Series: Imposter Phenomenon
DESCRIPTION:Topics throughout the fall to support international students with adjustment to MIT and the U.S. Please register for each virtual workshop you are interested in attending at this link. \n\n\n\n\n\nContact: riechman@mit.edu
URL:https://iso.mit.edu/event/zoom-noon-break-2-2-2-3-2-3-2-2-2/
ATTACH;FMTTYPE=image/png:https://iso.mit.edu/wp-content/uploads/2020/09/Navigating-MIT-Fall-2020.png
END:VEVENT
BEGIN:VEVENT
DTSTART;TZID=UTC:20201029T140000
DTEND;TZID=UTC:20201029T150000
DTSTAMP:20260423T062504
CREATED:20201008T202413Z
LAST-MODIFIED:20201008T202415Z
UID:2320-1603980000-1603983600@iso.mit.edu
SUMMARY:Zoom Afternoon Break
DESCRIPTION:Join your fellow international students and postdocs for a virtual zoom break and a lively game of Codenames every other week! Please sign up at this link if you plan to attend. The Zoom link is recurring each time. \n\n\n\n\n\nContact: riechman@mit.edu
URL:https://iso.mit.edu/event/zoom-noon-break-2-2-2-3-2-2-2-2-2/
ATTACH;FMTTYPE=image/png:https://iso.mit.edu/wp-content/uploads/2020/10/Zoom-Afternoon-Break-Oct-2020.png
END:VEVENT
BEGIN:VEVENT
DTSTART;TZID=UTC:20201022T120000
DTEND;TZID=UTC:20201022T130000
DTSTAMP:20260423T062504
CREATED:20201021T130928Z
LAST-MODIFIED:20201021T131504Z
UID:2347-1603368000-1603371600@iso.mit.edu
SUMMARY:ISchO/ISO Open Forum: USDHS Proposed Rule Impacting F and J Duration of Status
DESCRIPTION:The U.S. Department of Homeland Security\, on September 25\, 2020\, published a Proposed Rule to change the period of admission to the U.S. for F and J Students and Scholars to a fixed period\, eliminating “Duration of Status (D/S).” The MIT International Scholars Office (ISchO) and International Students Office (ISO) will host this Forum to provide a summary of the Proposed Rule\, potential impact on MIT international students and scholars\, and address pre-submitted questions. For those unable to attend the Forum live\, the presentation slides and video/audio will be made available soon after the Forum.   \n\n\n\nPlease submit questions in advance of the Forum: https://tinyurl.com/y6jxfcrp \n\n\n\nRead summary of proposed rule at this website: \n\n\n\n\nSummary – USDHS PROPOSED Rule Impacting Period of Admission for F\, J\, and I Visa Status\n\n\n\n\n\n\nContact: riechman@mit.edu
URL:https://iso.mit.edu/event/zoom-noon-break-2-2-2-3-2-3-2-2-2-2-2-2/
ATTACH;FMTTYPE=image/png:https://iso.mit.edu/wp-content/uploads/2020/10/ISchO_ISO-Open-Forum-Oct-2020-REVISED.png
END:VEVENT
BEGIN:VEVENT
DTSTART;TZID=UTC:20201021T130000
DTEND;TZID=UTC:20201021T140000
DTSTAMP:20260423T062504
CREATED:20200924T134232Z
LAST-MODIFIED:20200924T134233Z
UID:2279-1603285200-1603288800@iso.mit.edu
SUMMARY:Navigating MIT Series: Healthy Relationships During Pandemic Times
DESCRIPTION:Topics throughout the fall to support international students with adjustment to MIT and the U.S. Please register for each virtual workshop you are interested in attending at this link. \n\n\n\n\n\nContact: riechman@mit.edu
URL:https://iso.mit.edu/event/zoom-noon-break-2-2-2-3-2-3-2-2/
ATTACH;FMTTYPE=image/png:https://iso.mit.edu/wp-content/uploads/2020/09/Navigating-MIT-Fall-2020.png
END:VEVENT
BEGIN:VEVENT
DTSTART;TZID=UTC:20201008T130000
DTEND;TZID=UTC:20201008T140000
DTSTAMP:20260423T062504
CREATED:20201008T202204Z
LAST-MODIFIED:20201008T202502Z
UID:2317-1602162000-1602165600@iso.mit.edu
SUMMARY:Zoom Afternoon Break
DESCRIPTION:Join your fellow international students and postdocs for a virtual zoom break and a lively game of Codenames every other week! Please sign up at this link if you plan to attend. The Zoom link is recurring each time. \n\n\n\n\n\nContact: riechman@mit.edu
URL:https://iso.mit.edu/event/zoom-noon-break-2-2-2-3-2-2-2-2/
ATTACH;FMTTYPE=image/png:https://iso.mit.edu/wp-content/uploads/2020/10/Zoom-Afternoon-Break-Oct-2020.png
END:VEVENT
BEGIN:VEVENT
DTSTART;TZID=UTC:20201007T100000
DTEND;TZID=UTC:20201007T110000
DTSTAMP:20260423T062504
CREATED:20200924T133814Z
LAST-MODIFIED:20200924T133815Z
UID:2276-1602064800-1602068400@iso.mit.edu
SUMMARY:Navigating MIT Series: Understanding American Culture & Friendship
DESCRIPTION:Topics throughout the fall to support international students with adjustment to MIT and the U.S. Please register for each virtual workshop you are interested in attending at this link. \n\n\n\n\n\nContact: riechman@mit.edu
URL:https://iso.mit.edu/event/zoom-noon-break-2-2-2-3-2-3-3/
LOCATION:Online (Zoom link to be provided upon signup)
ATTACH;FMTTYPE=image/png:https://iso.mit.edu/wp-content/uploads/2020/09/Navigating-MIT-Fall-2020.png
END:VEVENT
BEGIN:VEVENT
DTSTART;TZID=UTC:20201002T130000
DTEND;TZID=UTC:20201002T140000
DTSTAMP:20260423T062504
CREATED:20200924T133651Z
LAST-MODIFIED:20200924T133652Z
UID:2274-1601643600-1601647200@iso.mit.edu
SUMMARY:Navigating MIT Series: Effective Stress Management During COVID-19
DESCRIPTION:Topics throughout the fall to support international students with adjustment to MIT and the U.S. Please register for each virtual workshop you are interested in attending at this link. \n\n\n\n\n\nContact: riechman@mit.edu
URL:https://iso.mit.edu/event/zoom-noon-break-2-2-2-3-2-3-2/
ATTACH;FMTTYPE=image/png:https://iso.mit.edu/wp-content/uploads/2020/09/Navigating-MIT-Fall-2020.png
END:VEVENT
BEGIN:VEVENT
DTSTART;TZID=UTC:20200930T130000
DTEND;TZID=UTC:20200930T140000
DTSTAMP:20260423T062504
CREATED:20200924T132752Z
LAST-MODIFIED:20200924T133235Z
UID:2269-1601470800-1601474400@iso.mit.edu
SUMMARY:Navigating MIT Series: Understanding American Culture & Friendship
DESCRIPTION:Topics throughout the fall to support international students with adjustment to MIT and the U.S. Please register for each virtual workshop you are interested in attending at this link. \n\n\n\n\n\nContact: riechman@mit.edu
URL:https://iso.mit.edu/event/zoom-noon-break-2-2-2-3-2-3/
LOCATION:Online (Zoom link to be provided upon signup)
ATTACH;FMTTYPE=image/png:https://iso.mit.edu/wp-content/uploads/2020/09/Navigating-MIT-Fall-2020.png
END:VEVENT
BEGIN:VEVENT
DTSTART;TZID=UTC:20200924T130000
DTEND;TZID=UTC:20200924T140000
DTSTAMP:20260423T062504
CREATED:20200831T172207Z
LAST-MODIFIED:20200924T134047Z
UID:2195-1600952400-1600956000@iso.mit.edu
SUMMARY:Zoom Afternoon Break
DESCRIPTION:Join your fellow international students and postdocs for a virtual zoom break and a lively game of Codenames every other week! Please sign up at this link each time you plan to attend. \n\n\n\n\n\nContact: riechman@mit.edu
URL:https://iso.mit.edu/event/zoom-noon-break-2-2-2-3-2-2-2/
ATTACH;FMTTYPE=image/png:https://iso.mit.edu/wp-content/uploads/2020/08/Zoom-Afternoon-Break-Sept-2020-FINAL.png
END:VEVENT
BEGIN:VEVENT
DTSTART;TZID=UTC:20200910T130000
DTEND;TZID=UTC:20200910T140000
DTSTAMP:20260423T062504
CREATED:20200831T172113Z
LAST-MODIFIED:20200904T210726Z
UID:2192-1599742800-1599746400@iso.mit.edu
SUMMARY:Zoom Afternoon Break
DESCRIPTION:Join your fellow international students and postdocs for a virtual zoom break and a lively game of Codenames every other week! Please sign up at this link each time you plan to attend. \n\n\n\n\n\nContact: riechman@mit.edu
URL:https://iso.mit.edu/event/zoom-noon-break-2-2-2-3-2-2/
LOCATION:Online (Zoom link to be provided upon signup)
ATTACH;FMTTYPE=image/png:https://iso.mit.edu/wp-content/uploads/2020/08/Zoom-Afternoon-Break-Sept-2020-FINAL.png
END:VEVENT
BEGIN:VEVENT
DTSTART;TZID=UTC:20200827T120000
DTEND;TZID=UTC:20200827T130000
DTSTAMP:20260423T062504
CREATED:20200808T001325Z
LAST-MODIFIED:20200808T001327Z
UID:2063-1598529600-1598533200@iso.mit.edu
SUMMARY:Zoom Noon Break
DESCRIPTION:Join your fellow international students and postdocs for a virtual noon break and a lively game of Codenames every other week! Please sign up at this link each time you plan to attend. \n\n\n\n\n\nContact: riechman@mit.edu
URL:https://iso.mit.edu/event/zoom-noon-break-2-2-2-3-2/
LOCATION:Online (Zoom link to be provided upon signup)
ATTACH;FMTTYPE=image/png:https://iso.mit.edu/wp-content/uploads/2020/07/Zoom-Noon-Break-August-2020.png
END:VEVENT
BEGIN:VEVENT
DTSTART;TZID=UTC:20200814T140000
DTEND;TZID=UTC:20200814T150000
DTSTAMP:20260423T062504
CREATED:20200808T001449Z
LAST-MODIFIED:20201116T211044Z
UID:2065-1597413600-1597417200@iso.mit.edu
SUMMARY:LCE Virtual Conversation Cafe
DESCRIPTION:After a short opening presentation\, language learners will be sorted into breakout rooms by language where you can practice with native speakers.Participants can start arriving by 1:50pm so that presentation can start promptly at 2pm \n\n\n\nFor MIT communityCo-sponsored by Language Conversation Exchange (LCE) & ISOAdvance registration for each event is required \n\n\n\n\n\nContact: riechman@mit.edu
URL:https://iso.mit.edu/event/zoom-noon-break-2-2-2-2-2/2020-08-14/
LOCATION:Online (Zoom link to be provided upon signup)
ATTACH;FMTTYPE=image/jpeg:https://iso.mit.edu/wp-content/uploads/2020/08/virtual_conversation2.jpg
END:VEVENT
BEGIN:VEVENT
DTSTART;TZID=UTC:20200813T120000
DTEND;TZID=UTC:20200813T130000
DTSTAMP:20260423T062504
CREATED:20200731T001456Z
LAST-MODIFIED:20200805T070248Z
UID:2011-1597320000-1597323600@iso.mit.edu
SUMMARY:Zoom Noon Break
DESCRIPTION:Join your fellow international students and postdocs for a virtual noon break and a lively game of Codenames every other week! Please sign up at this link each time you plan to attend. \n\n\n\n\n\nContact: riechman@mit.edu
URL:https://iso.mit.edu/event/zoom-noon-break-2-2-2-3/
LOCATION:Online (Zoom link to be provided upon signup)
ATTACH;FMTTYPE=image/png:https://iso.mit.edu/wp-content/uploads/2020/07/Zoom-Noon-Break-August-2020.png
END:VEVENT
BEGIN:VEVENT
DTSTART;TZID=UTC:20200806T120000
DTEND;TZID=UTC:20200806T124500
DTSTAMP:20260423T062504
CREATED:20200731T000314Z
LAST-MODIFIED:20200804T204558Z
UID:2006-1596715200-1596717900@iso.mit.edu
SUMMARY:Global Perspectives
DESCRIPTION:Listen to ideas & topics your peers at MIT find meaningful or are passionate about\, as well as share your own perspectives.For all international studentsSponsored by ISOSign up: https://forms.gle/GwT9tBVjqTYo3gQx9 \n\n\n\nTOPIC:Discover Chinese Regional CuisinesPresenter: Hao Zhang\,Political Science PhD ’23 \n\n\n\nThe presentation aims to provide a brief introduction to the four major regional cuisines in China\, including their features and flavors. Hao will then talk briefly about where you can try them in the Boston-Cambridge area. \n\n\n\n\n\nContact: riechman@mit.edu
URL:https://iso.mit.edu/event/zoom-noon-break-2-2-3/
LOCATION:Online (Zoom link to be provided upon signup)
ATTACH;FMTTYPE=image/png:https://iso.mit.edu/wp-content/uploads/2020/07/Global-Perspectives-Aug-6-2020.png
END:VEVENT
BEGIN:VEVENT
DTSTART;TZID=UTC:20200730T120000
DTEND;TZID=UTC:20200730T130000
DTSTAMP:20260423T062504
CREATED:20200714T205741Z
LAST-MODIFIED:20200724T224436Z
UID:1887-1596110400-1596114000@iso.mit.edu
SUMMARY:Zoom Noon Break
DESCRIPTION:Join your fellow international students and postdocs for a virtual noon break and a lively game of Codenames every other week! Please sign up at this each time you plan to attend. \n\n\n\n\n\nContact: riechman@mit.edu
URL:https://iso.mit.edu/event/zoom-noon-break-2-2-2/
LOCATION:Online (Zoom link to be provided upon signup)
ATTACH;FMTTYPE=image/png:https://iso.mit.edu/wp-content/uploads/2020/07/Zoom-Noon-Break-July-2020.png
END:VEVENT
END:VCALENDAR