BEGIN:VCALENDAR
VERSION:2.0
PRODID:-//ISO - ECPv6.15.20//NONSGML v1.0//EN
CALSCALE:GREGORIAN
METHOD:PUBLISH
X-WR-CALNAME:ISO
X-ORIGINAL-URL:https://iso.mit.edu
X-WR-CALDESC:Events for ISO
REFRESH-INTERVAL;VALUE=DURATION:PT1H
X-Robots-Tag:noindex
X-PUBLISHED-TTL:PT1H
BEGIN:VTIMEZONE
TZID:UTC
BEGIN:STANDARD
TZOFFSETFROM:+0000
TZOFFSETTO:+0000
TZNAME:UTC
DTSTART:20190101T000000
END:STANDARD
END:VTIMEZONE
BEGIN:VEVENT
DTSTART;TZID=UTC:20200728T140000
DTEND;TZID=UTC:20200728T150000
DTSTAMP:20260423T105733
CREATED:20200724T225418Z
LAST-MODIFIED:20200724T225419Z
UID:1981-1595944800-1595948400@iso.mit.edu
SUMMARY:LCE Virtual Conversation Cafe
DESCRIPTION:After a short opening presentation\, language learners will be sorted into breakout rooms by language where you can practice with native speakers.Participants can start arriving by 1:50pm so that presentation can start promptly at 2pm \n\n\n\nFor MIT communityCo-sponsored by Language Conversation Exchange (LCE) & ISOAdvance registration for each event is required \n\n\n\n\n\nContact: riechman@mit.edu
URL:https://iso.mit.edu/event/zoom-noon-break-2-2-2-2/
LOCATION:Online (Zoom link to be provided upon signup)
END:VEVENT
BEGIN:VEVENT
DTSTART;TZID=UTC:20200723T120000
DTEND;TZID=UTC:20200723T123000
DTSTAMP:20260423T105733
CREATED:20200527T182849Z
LAST-MODIFIED:20200722T172250Z
UID:1658-1595505600-1595507400@iso.mit.edu
SUMMARY:Global Perspectives
DESCRIPTION:Listen to ideas & topics your peers at MIT find meaningful or are passionate about\, as well as share your own perspectives. \n\n\n\nThursday\, July 23\, 202012noon to 12:30pm (EDT\, Boston time)For all international studentsSponsored by ISOSign up: https://forms.gle/GwT9tBVjqTYo3gQx9 \n\n\n\nFIRST TOPIC:Did you notice that I exist?Humans of different kindsPresenter: Nikita Bansal\, IDM ’20 \n\n\n\nHear from Nikita how she discovered her unique-self while living with the very diverse community that we all live with at MIT. She will touch upon several types of personalities based on extraversion\, our conflict management style\, and the roles that people play in team projects; she will also share the bright side of each kind from her own experiences. She believes that only if we have empathy and respect for each kind of us\, we can build a truly inclusive society. \n\n\n\n\n\nContact: riechman@mit.edu
URL:https://iso.mit.edu/event/zoom-noon-break-2-2/
LOCATION:Online (Zoom link to be provided upon signup)
ATTACH;FMTTYPE=image/png:https://iso.mit.edu/wp-content/uploads/2020/05/Global-Perspectives-July-2020.png
END:VEVENT
END:VCALENDAR